BEGIN:VCALENDAR
VERSION:2.0
PRODID:-//The Polish Weekly | Tygodnik Polski - ECPv6.10.1.1//NONSGML v1.0//EN
CALSCALE:GREGORIAN
METHOD:PUBLISH
X-WR-CALNAME:The Polish Weekly | Tygodnik Polski
X-ORIGINAL-URL:https://polishweekly.com
X-WR-CALDESC:Events for The Polish Weekly | Tygodnik Polski
REFRESH-INTERVAL;VALUE=DURATION:PT1H
X-Robots-Tag:noindex
X-PUBLISHED-TTL:PT1H
BEGIN:VTIMEZONE
TZID:UTC
BEGIN:STANDARD
TZOFFSETFROM:+0000
TZOFFSETTO:+0000
TZNAME:UTC
DTSTART:20240101T000000
END:STANDARD
END:VTIMEZONE
BEGIN:VEVENT
DTSTART;VALUE=DATE:20241207
DTEND;VALUE=DATE:20241208
DTSTAMP:20260426T025540
CREATED:20241107T203006Z
LAST-MODIFIED:20241107T203006Z
UID:12766-1733529600-1733615999@polishweekly.com
SUMMARY:Historical Tour of Grand Rapids Polonia
DESCRIPTION:Historical Tour of Grand Rapids Polonia\nSponsored by: Polish Genealogical Society of Michigan\, Polish Heritage Society of Grand Rapids and Polish Institute of Culture and Research\nIn the program\, a private tour of the OL Galeria and sightseeing of Polish sites in Grand Rapids\, lunch\, and shopping.\nThe event starts at 9 AM ot the Orchard Lake Campus.\nTo RSVP\, contact Ania Bieciuk at 248/836-1284 or visit www.picrol.org by December 2.\nMore details in the flyer.
URL:https://polishweekly.com/event/historical-tour-of-grand-rapids-polonia/
LOCATION:Galeria\, OLS
ATTACH;FMTTYPE=image/jpeg:https://polishweekly.com/wp-content/uploads/2024/11/03006C0A-802F-4D57-ACF4-99CBCA14E05C.jpeg
END:VEVENT
END:VCALENDAR