BEGIN:VCALENDAR
VERSION:2.0
PRODID:-//The Polish Weekly | Tygodnik Polski - ECPv6.10.1.1//NONSGML v1.0//EN
CALSCALE:GREGORIAN
METHOD:PUBLISH
X-ORIGINAL-URL:https://polishweekly.com
X-WR-CALDESC:Events for The Polish Weekly | Tygodnik Polski
REFRESH-INTERVAL;VALUE=DURATION:PT1H
X-Robots-Tag:noindex
X-PUBLISHED-TTL:PT1H
BEGIN:VTIMEZONE
TZID:UTC
BEGIN:STANDARD
TZOFFSETFROM:+0000
TZOFFSETTO:+0000
TZNAME:UTC
DTSTART:20240101T000000
END:STANDARD
END:VTIMEZONE
BEGIN:VEVENT
DTSTART;TZID=UTC:20241123T170000
DTEND;TZID=UTC:20241123T200000
DTSTAMP:20260426T024756
CREATED:20241107T203024Z
LAST-MODIFIED:20241107T203024Z
UID:12760-1732381200-1732392000@polishweekly.com
SUMMARY:Benefit Dinner for Poland Flood Victims
DESCRIPTION:Hosted by the Polish Institute of Culture and Research at Orchard Lake\, in collaboration with Grzegorz Górny and Rafał Porzeziński.\nCost: $100.00\nIn the program\, a lecture ”The Battle for the Soul of the World in the Teachings of St. John Paul II” (in Polish and English)\, and an a capella vocal performance by Angelika Korszyńska-Górny.\nFor tickets\, call Ania Bieciuk at 248/836-1284 or visit www.picrol.org.\nMore details in the flyer.
URL:https://polishweekly.com/event/benefit-dinner-for-poland-flood-victims/
LOCATION:Galeria\, OLS
ATTACH;FMTTYPE=image/jpeg:https://polishweekly.com/wp-content/uploads/2024/11/21B391B1-17E5-48E8-AFF6-9A6DE017D5EF.jpeg
END:VEVENT
END:VCALENDAR