BEGIN:VCALENDAR
VERSION:2.0
PRODID:-//The Polish Weekly | Tygodnik Polski - ECPv6.10.1.1//NONSGML v1.0//EN
CALSCALE:GREGORIAN
METHOD:PUBLISH
X-ORIGINAL-URL:https://polishweekly.com
X-WR-CALDESC:Events for The Polish Weekly | Tygodnik Polski
REFRESH-INTERVAL;VALUE=DURATION:PT1H
X-Robots-Tag:noindex
X-PUBLISHED-TTL:PT1H
BEGIN:VTIMEZONE
TZID:UTC
BEGIN:STANDARD
TZOFFSETFROM:+0000
TZOFFSETTO:+0000
TZNAME:UTC
DTSTART:20240101T000000
END:STANDARD
END:VTIMEZONE
BEGIN:VEVENT
DTSTART;TZID=UTC:20240504T090000
DTEND;TZID=UTC:20240504T090000
DTSTAMP:20260417T014123
CREATED:20240218T232226Z
LAST-MODIFIED:20240219T140553Z
UID:10938-1714813200-1714813200@polishweekly.com
SUMMARY:Vivat May 3\, 5K Run/Walk
DESCRIPTION:Po raz pierwszy w metropolii Detroit\,  radośnie i aktywnie pragniemy świętować Dzień Konstytucji  3 Maja! Dołącz do nas! \nThe celebration of Constitution Day on May 3 refers to the events of 1791 when the first constitution in Europe and the second in the world was signed. \nEach participant in the Run receives a starting number and a T-shirt. \nVivat 3 Maja 5KRun/Walk\nSaturday\, May 4\, 9 a.m.\nCampus of Orchard Lake Schools\nEarly Bird $10.00 to March 30\nRegistration fee April 1th to May 3rd $20.00
URL:https://polishweekly.com/event/vivat-may-3-5k-run-walk/
ATTACH;FMTTYPE=image/jpeg:https://polishweekly.com/wp-content/uploads/2024/02/Ulotka3.jpg
END:VEVENT
BEGIN:VEVENT
DTSTART;TZID=UTC:20240504T170000
DTEND;TZID=UTC:20240505T220000
DTSTAMP:20260417T014123
CREATED:20240418T234615Z
LAST-MODIFIED:20240418T234615Z
UID:11505-1714842000-1714946400@polishweekly.com
SUMMARY:Festiwal Truskawkowy\, Parafia Św. Floriana\, Hamtramck
DESCRIPTION:
URL:https://polishweekly.com/event/festiwal-truskawkowy-parafia-sw-floriana-hamtramck/
ATTACH;FMTTYPE=image/jpeg:https://polishweekly.com/wp-content/uploads/2024/04/Festiwal-Truskawkowy.jpg
END:VEVENT
END:VCALENDAR