BEGIN:VCALENDAR
VERSION:2.0
PRODID:-//The Polish Weekly | Tygodnik Polski - ECPv6.10.1.1//NONSGML v1.0//EN
CALSCALE:GREGORIAN
METHOD:PUBLISH
X-WR-CALNAME:The Polish Weekly | Tygodnik Polski
X-ORIGINAL-URL:https://polishweekly.com
X-WR-CALDESC:Events for The Polish Weekly | Tygodnik Polski
REFRESH-INTERVAL;VALUE=DURATION:PT1H
X-Robots-Tag:noindex
X-PUBLISHED-TTL:PT1H
BEGIN:VTIMEZONE
TZID:UTC
BEGIN:STANDARD
TZOFFSETFROM:+0000
TZOFFSETTO:+0000
TZNAME:UTC
DTSTART:20240101T000000
END:STANDARD
END:VTIMEZONE
BEGIN:VEVENT
DTSTART;TZID=UTC:20240415T190000
DTEND;TZID=UTC:20240415T213000
DTSTAMP:20260419T130515
CREATED:20240408T002959Z
LAST-MODIFIED:20240408T011652Z
UID:11399-1713207600-1713216600@polishweekly.com
SUMMARY:Irena's Vow (2023\, 2 h 20 min)
DESCRIPTION:“Irena’s Vow” (“Przysięga Ireny”) plays in many theatres near you on Monday\, April 15 and on Tuesday\, April 16.\nA WWII drama “Irena’s Vow” (“Przysięga Ireny”) is a 2023 Canadian-Polish co-production\, shot in Lublin and Warszawa in 2022\, with Sophie Nélisse as Irena Gut\, a courageous Polish nurse\, who during WWII risked her life to save Jews\, and in 1982 was awarded the Righteous Among the Nations medal.\nTickets: $12.50.\nFor all the screenings in our area\, and to purchase tickets\, please check: https://www.fathomevents.com/events/irenas-vow/
URL:https://polishweekly.com/event/irenas-vow-2023-2-h-20-min-2/
ATTACH;FMTTYPE=image/jpeg:https://polishweekly.com/wp-content/uploads/2024/04/8C56F74C-91D8-46DF-A491-948F041640CE_4_5005_c.jpeg
END:VEVENT
END:VCALENDAR