BEGIN:VCALENDAR
VERSION:2.0
PRODID:-//The Polish Weekly | Tygodnik Polski - ECPv6.10.1.1//NONSGML v1.0//EN
CALSCALE:GREGORIAN
METHOD:PUBLISH
X-ORIGINAL-URL:https://polishweekly.com
X-WR-CALDESC:Events for The Polish Weekly | Tygodnik Polski
REFRESH-INTERVAL;VALUE=DURATION:PT1H
X-Robots-Tag:noindex
X-PUBLISHED-TTL:PT1H
BEGIN:VTIMEZONE
TZID:UTC
BEGIN:STANDARD
TZOFFSETFROM:+0000
TZOFFSETTO:+0000
TZNAME:UTC
DTSTART:20240101T000000
END:STANDARD
END:VTIMEZONE
BEGIN:VEVENT
DTSTART;TZID=UTC:20240414T180000
DTEND;TZID=UTC:20240414T193000
DTSTAMP:20260419T130655
CREATED:20240403T195951Z
LAST-MODIFIED:20240403T195951Z
UID:11364-1713117600-1713123000@polishweekly.com
SUMMARY:Msza Święta w 14. rocznicę tragicznej katastrofy samolotowej pod Smoleńskiem i w 84. rocznicę zbrodni katyńskich
DESCRIPTION:W 14. rocznicę tragicznej katastrofy samolotowej pod Smoleńskiem i w 84. rocznicę zbrodni katyńskich dokonanych przez Sowietów\, Kongres Polonii Amerykańskiej Wydział na Stan Michigan\, zaprasza na Mszę Świętą upamiętniającą wszystkich\, którzy zginęli.\nZapraszamy do wspólnej modlitwy w ich intencji i uczczenia ich pamięci podczas Mszy Świętej. \nNiedziela\, 14 kwietnia\, 2024\, o godzinie 6:00 wieczorem.\nKościół Św. Faustyny\, 14025 E. 12 Mile Rd. Warren\, MI
URL:https://polishweekly.com/event/msza-swieta-w-14-rocznice-tragicznej-katastrofy-samolotowej-pod-smolenskiem-i-w-84-rocznice-zbrodni-katynskich/
ATTACH;FMTTYPE=image/jpeg:https://polishweekly.com/wp-content/uploads/2024/04/1FA3662A-2C56-4ABF-A81F-2249DD2EC461.jpeg
END:VEVENT
END:VCALENDAR